BEGIN:VCALENDAR
VERSION:2.0
PRODID:-//Sabre//Sabre VObject 4.5.8//EN
CALSCALE:GREGORIAN
BEGIN:VEVENT
UID:11865@muncieevents.com
DTSTAMP:20260425T232018Z
CATEGORIES:Sports
COMMENT:Info source: https://fb.me/e/46CUl1Zd2
CONTACT:
DTSTART;TZID=AMERICA/INDIANA/INDIANAPOLIS:20260425T180000
DESCRIPTION:Pro wrestling event holding a canned food drive via partnership
  with the Muncie Mission\n\n&nbsp\;\n\nGuilty By Affiliation Wrestling pre
 sents. The Day Is My Enemy &nbsp\;\n\n&nbsp\;\n\n- Date: April 25th\n\n- L
 ocation: Boys &amp\; Girls Clubs of Muncie\n\n- Time: Doors open at 6:00 P
 M\; Bell time is at 7:00 PM\n\n- Admission: $12 General Admission 🎟️\
 n\n- Tickets: Available for purchase online or at the door\n\n&nbsp\;\n\nW
 e're also working with the Muncie Mission with a Canned Food Drive during 
 this event. So show out Muncie and bring all your canned goods and non-per
 ishable food. Let's support the community!\n\n&nbsp\;\n\nNeed word of mout
 h for this event. Share this post and let's pack the house.\n\n&nbsp\;\n\n
 Ticket link:\n\nhttps://www.eventbrite.com/e/the-day-is-my-enemy-tickets-1
 984145907822?aff=oddtdtcreator&amp\;fbclid=IwY2xjawRJ4jdleHRuA2FlbQIxMABic
 mlkETFxQkoxTU5TSDVtd2JPRUlsc3J0YwZhcHBfaWQQMjIyMDM5MTc4ODIwMDg5MgABHr5Aj5u
 R-FYdUMFJhymdYPb_-bfzBjiRFZMxvnjmdjh1XYg52tU45Vcv4Np3_aem_g-zK2F6HPLNPlRbd
 GK3l2w\n\n&nbsp\;\n\n#wrestling #prowrestling #Muncie #share #explorepage 
 #viral #everyoneシ゚viralシviralシfypシ゚viralシalシ
LOCATION:Boys and Girls Club of Muncie (1710 South Madison Street )
SUMMARY:The Day Is My Enemy 
URL;VALUE=URI:https://muncieevents.com/event/11865
END:VEVENT
END:VCALENDAR
