BEGIN:VCALENDAR
VERSION:2.0
PRODID:-//Sabre//Sabre VObject 4.5.8//EN
CALSCALE:GREGORIAN
BEGIN:VEVENT
UID:11862@muncieevents.com
DTSTAMP:20260424T151450Z
CATEGORIES:Art
COMMENT:Info source: https://www.bsu.edu/calendar/events/academics/school-o
 f-art/2026/05/01/graphic-design-senior-showcase?date=2026-05-01
CONTACT:mary.rodgers@bsu.edu
DTSTART;TZID=AMERICA/INDIANA/INDIANAPOLIS:20260501T180000
DESCRIPTION:Join us for the Graphic Design Senior Showcase at The Clubhouse
  on Walnut Street\, featuring the culminating work of Ball State’s senio
 r graphic designers! Explore their senior design campaigns alongside a ran
 ge of projects developed throughout their time in the program. Enjoy food 
 and drinks\, music\, and a relaxing evening as you meet the designers and 
 celebrate their work. Free and open to the public.
LOCATION:The Clubhouse (115 S Walnut St.)
SUMMARY:Graphic Design Senior Showcase
URL;VALUE=URI:https://muncieevents.com/event/11862
END:VEVENT
END:VCALENDAR
