BEGIN:VCALENDAR
VERSION:2.0
PRODID:-//Sabre//Sabre VObject 4.5.8//EN
CALSCALE:GREGORIAN
BEGIN:VEVENT
UID:11860@muncieevents.com
DTSTAMP:20260423T211846Z
CATEGORIES:Art
COMMENT:Info source: https://www.bsu.edu/calendar/events/academics/school-o
 f-art/2026/04/24/clay-guild-sale?date=2026-04-24
CONTACT:mary.rodgers@bsu.edu
DTSTART;TZID=AMERICA/INDIANA/INDIANAPOLIS:20260423T100000
DESCRIPTION:The Ball State University School of Art's Clay Guild is hosting
  a sale! Stop by the Atrium to shop a variety of objects from functional w
 are like mugs and bowls to sculptural work!
LOCATION:Art and Journalism Building\, Ball State University\, Atrium (1001
  N. McKinley Ave.)
SUMMARY:Clay Guild Sale
URL;VALUE=URI:https://muncieevents.com/event/11860
DTEND;TZID=AMERICA/INDIANA/INDIANAPOLIS:20260423T180000
END:VEVENT
END:VCALENDAR
