BEGIN:VCALENDAR
VERSION:2.0
PRODID:-//Sabre//Sabre VObject 4.5.8//EN
CALSCALE:GREGORIAN
BEGIN:VEVENT
UID:11857@muncieevents.com
DTSTAMP:20260422T043342Z
CATEGORIES:General Events
COMMENT:Info source: https://eventvesta.com/events/143613/t/tickets
CONTACT:mbarry@minnetrista.net
DTSTART;TZID=AMERICA/INDIANA/INDIANAPOLIS:20260624T090000
DESCRIPTION:June 22–26\; 9 a.m.–2 p.m. on Monday\, Tuesday\, Thursday\,
  and Friday\, 9 a.m.–Noon on Wednesday\nLocation: Education Center\; (St
 udents should be dropped off and picked up from Marilyn K. Glick Center fo
 r Glass&nbsp\;on Wednesday)\nCost: $255/week | Member Discounts Apply\nReg
 istration Deadline: June 18\, 2026\n\nLunch Not Provided. Ages 11–14 yea
 rs old.\n\nUnleash your creativity with glass! This hands-on camp invites 
 artists to explore the art of glassmaking and experiment with a variety of
  techniques. Whether you're a beginner or have some experience\, you'll cr
 eate one-of-a-kind pieces while discovering the beauty and magic of workin
 g with glass.\n\nFood &amp\; Medical Information\nBefore registering\, ple
 ase email knickel@minnetrista.net with any food allergies or dietary restr
 ictions. Some accommodations can be made\; however\, we are unable to acco
 mmodate severe allergies (including gluten or nut). Minnetrista is also un
 able to store or administer medication.\n\nhttps://www.minnetrista.net/eve
 nts/glass-artists-camp-2026.
LOCATION:Minnetrista Museum & Gardens\, Education Center (Minnetrista Museu
 m & Gardens\, Education Center 1200 N Minnetrista Pkwy Muncie\, IN 47303
 )
SUMMARY:Camp Minnetrista: Glass Artists
URL;VALUE=URI:https://muncieevents.com/event/11857
DTEND;TZID=AMERICA/INDIANA/INDIANAPOLIS:20260624T140000
END:VEVENT
END:VCALENDAR
