BEGIN:VCALENDAR
VERSION:2.0
PRODID:-//Sabre//Sabre VObject 4.5.8//EN
CALSCALE:GREGORIAN
BEGIN:VEVENT
UID:11847@muncieevents.com
DTSTAMP:20260422T014503Z
CATEGORIES:General Events
COMMENT:Info source: https://eventvesta.com/events/143612/t/tickets
CONTACT:mbarry@minnetrista.net
DTSTART;TZID=AMERICA/INDIANA/INDIANAPOLIS:20260609T090000
DESCRIPTION:June 8–12\; 9 a.m.–2 p.m.\n\nCost: $255/week | Member Disco
 unts Apply | Ages 12–14 | Lunch Provided\n\nRegistration Deadline: June 
 4\, 2026\n\n&nbsp\;\n\nAttention\, aspiring young chefs! Grab your aprons 
 and get ready to dive into the kitchen in our upper-level summer camp. Cam
 pers will whip up exciting new recipes\, hone their skills with kitchen ap
 pliances\, and explore techniques to expand their culinary palates. &nbsp\
 ;\n\n&nbsp\;\n\nFood &amp\; Medical Information\n\nBefore registering\, pl
 ease email knickel@minnetrista.net with any food allergies or dietary rest
 rictions. Some accommodations can be made\; however\, we are unable to acc
 ommodate severe allergies (including gluten or nut)\, as food is prepared 
 in shared group settings. Minnetrista is also unable to store or administe
 r medication.\n\n&nbsp\;\n\nhttps://www.minnetrista.net/events/culinary-sk
 ills-camp-2026.\n\n&nbsp\;\n\nJun 8\, 2026\, 9:00am to\n\nJun 12\, 2026\, 
 2:00pm Timezone: Eastern Time (US &amp\; Canada)
LOCATION:Minnetrista Museum & Gardens\, Education Center (Minnetrista Museu
 m & Gardens\, Education Center 1200 N Minnetrista Pkwy Muncie\, IN 47303
 )
SUMMARY:Camp Minnetrista: Culinary Skills
URL;VALUE=URI:https://muncieevents.com/event/11847
DTEND;TZID=AMERICA/INDIANA/INDIANAPOLIS:20260609T140000
END:VEVENT
END:VCALENDAR
